BEGIN:VCALENDAR
VERSION:2.0
PRODID:-//Highland Business and Neighborhood Association - ECPv6.15.20//NONSGML v1.0//EN
CALSCALE:GREGORIAN
METHOD:PUBLISH
X-ORIGINAL-URL:https://www.hbana.org
X-WR-CALDESC:Events for Highland Business and Neighborhood Association
REFRESH-INTERVAL;VALUE=DURATION:PT1H
X-Robots-Tag:noindex
X-PUBLISHED-TTL:PT1H
BEGIN:VTIMEZONE
TZID:America/Denver
BEGIN:DAYLIGHT
TZOFFSETFROM:-0700
TZOFFSETTO:-0600
TZNAME:MDT
DTSTART:20250309T090000
END:DAYLIGHT
BEGIN:STANDARD
TZOFFSETFROM:-0600
TZOFFSETTO:-0700
TZNAME:MST
DTSTART:20251102T080000
END:STANDARD
BEGIN:DAYLIGHT
TZOFFSETFROM:-0700
TZOFFSETTO:-0600
TZNAME:MDT
DTSTART:20260308T090000
END:DAYLIGHT
BEGIN:STANDARD
TZOFFSETFROM:-0600
TZOFFSETTO:-0700
TZNAME:MST
DTSTART:20261101T080000
END:STANDARD
BEGIN:DAYLIGHT
TZOFFSETFROM:-0700
TZOFFSETTO:-0600
TZNAME:MDT
DTSTART:20270314T090000
END:DAYLIGHT
BEGIN:STANDARD
TZOFFSETFROM:-0600
TZOFFSETTO:-0700
TZNAME:MST
DTSTART:20271107T080000
END:STANDARD
END:VTIMEZONE
BEGIN:VEVENT
DTSTART;TZID=America/Denver:20260319T183000
DTEND;TZID=America/Denver:20260319T200000
DTSTAMP:20260423T175222
CREATED:20260306T200450Z
LAST-MODIFIED:20260306T200612Z
UID:3909-1773945000-1773950400@www.hbana.org
SUMMARY:HBANA Board of Directors Meeting
DESCRIPTION:All neighbors are welcome to attend. Agenda TBD.
URL:https://www.hbana.org/event/hbana-board-meeting-2026-03-19/
LOCATION:Manzano del Sol\, 5201 Roma Ave NE\, Albuquerque\, NM\, 87108\, United States
CATEGORIES:Board Meeting
ATTACH;FMTTYPE=image/png:https://www.hbana.org/wp-content/uploads/2026/03/meeting-free.png
ORGANIZER;CN="Highland Business & Neighborhood Association":MAILTO:info@hbana.org
END:VEVENT
END:VCALENDAR